BEGIN:VCALENDAR
VERSION:2.0
PRODID:SchoolNow
CALSCALE:GREGORIAN
BEGIN:VEVENT
UID:69e331e8-ee80-11eb-88bc-0eb4964f54db
DTSTAMP:20210802T165441Z
SUMMARY:Community Workshop - Aug. 2021
URL;VALUE=URI:https://www.grandhavencdd.org/calendar/2647899/community-work
 shop-aug-2021
DTSTART:20210805T130000Z
DTEND:20210805T140000Z
ATTACH;FILENAME=2021-08-05 GHCDD-agenda-wks.pdf;FMTTYPE=application/pdf:htt
 ps://campussuite-storage.s3.amazonaws.com/prod/1559079/4b26aa0c-e8b1-11eb-
 8284-025da818aaf3/2297520/09f22ce4-f3b2-11eb-8f89-02c80c07ef2b/file/2021-0
 8-05 GHCDD-agenda-wks.pdf
END:VEVENT
END:VCALENDAR
