BEGIN:VCALENDAR
VERSION:2.0
PRODID:SchoolNow
CALSCALE:GREGORIAN
BEGIN:VEVENT
UID:89ce8e30-ee80-11eb-b16d-0eb4964f54db
DTSTAMP:20210813T144743Z
SUMMARY:CDD Board Meeting - Aug. 2021
LOCATION:Grand Haven Village Center\, Grand Haven Room\, 2001 Waterside Par
 kway\, Palm Coast\, Florida 32137
URL;VALUE=URI:https://www.grandhavencdd.org/calendar/2647900/cdd-board-meet
 ing-aug-2021
DTSTART:20210819T130000Z
DTEND:20210819T140000Z
ATTACH;FILENAME=GHCDD 2021-08-19 Audit Agenda Package.pdf;FMTTYPE=applicati
 on/pdf:https://campussuite-storage.s3.amazonaws.com/prod/1559079/4b26aa0c-
 e8b1-11eb-8284-025da818aaf3/2301281/a99d7d30-fbb3-11eb-8f5d-02bdcdeae07f/f
 ile/GHCDD 2021-08-19 Audit Agenda Package.pdf
ATTACH;FILENAME=2021-08-19 GHCDD REVISED Agenda Package.pdf;FMTTYPE=applica
 tion/pdf:https://campussuite-storage.s3.amazonaws.com/prod/1559079/4b26aa0
 c-e8b1-11eb-8284-025da818aaf3/2301416/5f52004c-fc45-11eb-ae22-0e7fa18349bf
 /file/2021-08-19 GHCDD REVISED Agenda Package.pdf
END:VEVENT
END:VCALENDAR
