BEGIN:VCALENDAR
VERSION:2.0
PRODID:SchoolNow
CALSCALE:GREGORIAN
BEGIN:VEVENT
UID:8d361c40-5f08-11ef-9c44-0afff214d861
DTSTAMP:20250327T193542Z
SUMMARY:CDD Board Workshop - Apr. 2025
LOCATION:Creekside Amenity Center\, 2 North Village Parkway\, Palm Coast\, 
 FL 32137
URL;VALUE=URI:https://www.grandhavencdd.org/calendar/6431478/cdd-board-work
 shop-apr-2025
DTSTART:20250403T130000Z
DTEND:20250403T180000Z
ATTACH;FILENAME=2025-04-03 Workshop Agenda Package.pdf;FMTTYPE=application/
 pdf:https://campussuite-storage.s3.amazonaws.com/prod/1559079/4b26aa0c-e8b
 1-11eb-8284-025da818aaf3/2933278/a026d056-0b42-11f0-9d92-0a58a9feac02/file
 /2025-04-03 Workshop Agenda Package.pdf
END:VEVENT
END:VCALENDAR
