BEGIN:VCALENDAR
VERSION:2.0
PRODID:SchoolNow
CALSCALE:GREGORIAN
BEGIN:VEVENT
UID:99920be8-5f08-11ef-bf1b-0e33c5c0bb61
DTSTAMP:20250428T194908Z
SUMMARY:CDD Board Workshop - May 2025
LOCATION:Creekside Amenity Center\, 2 North Village Parkway\, Palm Coast\, 
 FL 32137
URL;VALUE=URI:https://www.grandhavencdd.org/calendar/6431479/cdd-board-work
 shop-may-2025
DTSTART:20250501T130000Z
DTEND:20250501T180000Z
ATTACH;FILENAME=2025-05-01 Revised Workshop Agenda Package.pdf;FMTTYPE=appl
 ication/pdf:https://campussuite-storage.s3.amazonaws.com/prod/1559079/4b26
 aa0c-e8b1-11eb-8284-025da818aaf3/2946212/ccc33cb8-2469-11f0-8b75-0e56e220a
 191/file/2025-05-01 Revised Workshop Agenda Package.pdf
END:VEVENT
END:VCALENDAR
