BEGIN:VCALENDAR
VERSION:2.0
PRODID:SchoolNow
CALSCALE:GREGORIAN
BEGIN:VEVENT
UID:6afd3d60-5f09-11ef-a5c8-0a58a9feac02
DTSTAMP:20250414T203754Z
SUMMARY:CDD Board Meeting - Apr. 2025
LOCATION:Creekside Amenity Center\, 2 North Village Parkway\, Palm Coast\, 
 FL 32137
URL;VALUE=URI:https://www.grandhavencdd.org/calendar/6431490/cdd-board-meet
 ing-apr-2025
DTSTART:20250417T130000Z
DTEND:20250417T180000Z
ATTACH;FILENAME=2025-04-17 Revised Agenda Package.pdf;FMTTYPE=application/p
 df:https://campussuite-storage.s3.amazonaws.com/prod/1559079/4b26aa0c-e8b1
 -11eb-8284-025da818aaf3/2940474/3fc731d8-1970-11f0-8987-0ee54ec18875/file/
 2025-04-17 Revised Agenda Package.pdf
END:VEVENT
END:VCALENDAR
