BEGIN:VCALENDAR
VERSION:2.0
PRODID:SchoolNow
CALSCALE:GREGORIAN
BEGIN:VEVENT
UID:783369a0-5f09-11ef-9ee8-0affdcce4a41
DTSTAMP:20250512T201121Z
SUMMARY:CDD Board Meeting - May 2025
LOCATION:Creekside Amenity Center\, 2 North Village Parkway\, Palm Coast\, 
 FL 32137
URL;VALUE=URI:https://www.grandhavencdd.org/calendar/6431491/cdd-board-meet
 ing-may-2025
DTSTART:20250515T130000Z
DTEND:20250515T180000Z
ATTACH;FILENAME=2025-05-15 Revised Agenda Package.pdf;FMTTYPE=application/p
 df:https://campussuite-storage.s3.amazonaws.com/prod/1559079/4b26aa0c-e8b1
 -11eb-8284-025da818aaf3/2952844/28ca45e8-2f6d-11f0-9085-0a58a9feac02/file/
 2025-05-15 Revised Agenda Package.pdf
END:VEVENT
END:VCALENDAR
